Workbook
Name Abwicklungsmodelle: Prämissenblatt_Rohstoff!$H$89:$H$92
Name bottomMaterials: Material!$D$78
Name bottomProcesses: Fertigungskosten!$D$35
Name bottomTools: 'SBM-SEKOF-FWZ'!$C$50
Name EndZMaterials: ROW(bottomMaterials)-1
Name EndZProcesses: ROW(bottomProcesses)-1
Name EndZSBMInv: ROW(bottomSBMInvent)-1
Name EndZTools: ROW(bottomTools)-1
Name Ergänzungsschlüssel: Prämissenblatt_Rohstoff!$B$90:$B$102
Name Folgewerkzeug: Prämissenblatt!$O$8:$O$48
Name Kaufteil: Prämissenblatt!$W$8
Name list_Rohstoffschlüssel: Prämissenblatt_Rohstoff!$B$4:$D$83
Name listAngebotsWährungen: Zusammenfassung!$C$26:$C$28
Name listFlächeneinheit: Prämissenblatt!$AC$8:$AC$10
Name listLändernamen: Prämissenblatt!$K$8:$K$87
Name listMengeneinheiten: Prämissenblatt!$W$8:$W$28
Name listRohstoffschlüssel_Neu: Prämissenblatt_Rohstoff!$G$4:$G$74
Name listVerrechnungsformen: Prämissenblatt!$AA$8:$AA$11
Name listVorhanden: Prämissenblatt!$Y$8:$Y$9
Name listZulässigeAngebotswährungen: Prämissenblatt!$E$8:$E$40
Name listZulässigeBeschaffungswährungen: Prämissenblatt!$H$8:$H$63
Name MTZ: Prämissenblatt!$W$9
Name Prämie: Prämissenblatt!$W$17
Name QAF_MAPPING_GEWINN_1: Zusammenfassung!$P$23
Name QAF_MAPPING_GEWINN_2: Zusammenfassung!$O$23
Name QAF_MAPPING_GEWINN_3: Zusammenfassung!$N$23
Name QAF_MAPPING_SBM_1: Zusammenfassung!$P$34
Name QAF_MAPPING_SBM_2: Zusammenfassung!$O$34
Name QAF_MAPPING_SBM_3: Zusammenfassung!$N$34
Name QAF_MAPPING_ZUSCHLAG_1: Zusammenfassung!#REF!
Name QAF_MAPPING_ZUSCHLAG_2: Zusammenfassung!#REF!
Name QAF_MAPPING_ZUSCHLAG_3: Zusammenfassung!#REF!
Name Risiko: Prämissenblatt!$W$9
Name Rohstoffe_Materialblatt: Prämissenblatt_Rohstoff!$G$4:$I$74
Name SBM: Prämissenblatt!$O$8:$O$48
Name SBM_2: Prämissenblatt!$O$8:$P$48
Name SBMFeld: Prämissenblatt!$O$6
Name SEKOF: Prämissenblatt!$S$8:$S$41
Name SEKOF_2: Prämissenblatt!$S$8:$T$41
Name SEKOFFeld: Prämissenblatt!$S$6
Name Stück_Risiko: Prämissenblatt!$W$9
Name Werkzeuginstandhaltung: Prämissenblatt!$AH$8
Name WerkzeugwartungFeld: Prämissenblatt!$AH$6

Sheet Zusammenfassung
A2: 26.25 | B2: BMW Group | F2: QUOTATION ANALYSIS FORM | L2: Hilfe und Dokumentation | O2: b2b.bmw.com
A3: 18 | B3: VERTRAULICH | F3: ZUSAMMENFASSUNG | L3: (siehe Nutzerleitfaden QAF Version 8.3)
A4: 15.75 | B4: QAF Version 8.3.02.02 © BMW AG
A5: 17 | B5: Bearbeiter Lieferant: | C5: Valeo | F5: Anbieter/Lieferant: | I5: Valeo | L5: Teilebenennung: | M5: SZL
A6: 17 | B6: E-Mail: | C6: ulrich.wiedl@valeo.com | F6: BMW Lieferanten-Nr.: | I6: 16129510 | L6: Änderungsindex (AI):
A7: 17 | B7: Telefon: | C7: 07142 916 2143 | F7: BMW Projekt: | I7: 35up | L7: Anfragenummer / Version: | M7: Zum Angebot vom 11.05.2016
A8: 17 | B8: Angebotsdatum: | C8: 42513 | F8: BMW Sachnummer: | L8: Variante: | M8: SZL 4-Band mit AIC mit FLA mit Heckwischen
A9: 20
A10: 19 | B10: Allgemeine Prämissen | M10: Währungen | N10: =IF(C28="","", C28) | O10: =IF(C27="","", C27) | P10: =C26 -> EUR
A11: 19 | F11: 1. | G11: Materialkosten | N11: =Material!U82 -> 0 | O11: =Material!U81 -> 0 | P11: =Material!U80 -> 13.687852
A12: 19 | F12: 2. | G12: Fertigungskosten | N12: =Fertigungskosten!U39 -> 0 | O12: =Fertigungskosten!U38 -> 0 | P12: =Fertigungskosten!U37 -> 2.92
A13: 19 | B13: Serienlaufzeit [Jahre] : | D13: 10 | G13: SUMME HERSTELLKOSTEN | L13: (1.+ 2.) | N13: =N12+N11 -> 0 | O13: =O12+O11 -> 0 | P13: =P12+P11 -> 16.607852
A14: 19 | B14: Gesamtvolumen gem. Anfrage [Teile]: | D14: 4.463k | G14: Enthaltene Verpackung und Transport | N14: =Material!M82+Material!L82 -> 0 | O14: =Material!M81+Material!L81 -> 0 | P14: =Material!M80+Material!L80 -> 0
A15: 19 | B15: Peakvolumen Jahr [Teile / Jahr] : | D15: 1077k / 2021 | G15: Enthaltene Zölle | N15: =Material!N82 -> 0 | O15: =Material!N81 -> 0 | P15: =Material!N80 -> 0
A16: 19 | B16: Plankapazität [Teile / Jahr] :
A17: 19 | B17: Fertigungslosgröße [Teile]: | F17: 3. | G17: SEKOF und Folgewerkzeuge | N17: ='SBM-SEKOF-FWZ'!U54 -> 0 | O17: ='SBM-SEKOF-FWZ'!U53 -> 0 | P17: ='SBM-SEKOF-FWZ'!U52 -> 0
A18: 19 | B18: Produktionsstart (SOP) [mm.jjjj] : | C18: 43221 | F18: 4. | G18: Ausschusskosten | I18: Material | N18: =Material!W82 -> 0 | O18: =Material!W81 -> 0 | P18: =Material!W80 + L18 -> 0.054971292
A19: 19 | B19: Prämissen Lieferant | I19: Fertigung | N19: =Fertigungskosten!W39 -> 0 | O19: =Fertigungskosten!W38 -> 0 | P19: =Fertigungskosten!W37 + L19 -> 0.011726908
A20: 19
A21: 19 | B21: Fertigungsstandort (Land / Ort): | C21: Veszprem | G21: GESAMTKOSTEN | L21: (1.+ 2.+ 3.+ 4.) | N21: =SUM(N17:N19)+N13 -> 0 | O21: =SUM(O17:O19)+O13 -> 0 | P21: =SUM(P17:P19)+P13 -> 16.67455
A22: 19 | B22: Arbeitsstunden / Jahr [h]:
A23: 19 | B23: Schichten / Woche: | F23: 5. | G23: Sonstige Zuschläge | K23: Erläuterung: | L23: Investumlage 1 te/2teTranche + OH + Gewinn | P23: =0.64+1.5+ 1.4 -> 3.54
A24: 19 | D24: Wechselkurse zur Bestell- währung [AW1] (rein informativ) | G24: ANGEBOTSBASISPREIS | L24: (1.+ 2.+ 3.+ 4.+ 5.) | N24: =N21+N23 -> 0 | O24: =O21+O23 -> 0 | P24: =P21+P23 -> 20.21455
A26: 19 | B26: 1. (Bestell-) Währung 1 [AW1]: | C26: EUR | F26: 6. | G26: Rohstoff Preisanteil | K26: Erläuterung: | N26: =Material!AB82 -> 0 | O26: =Material!AB81 -> 0 | P26: =Material!AB80 -> 0
A27: 19 | B27: 2. Angebotswährung 2 [AW2] (optional): | F27: 7. | G27: Zölle Lieferant - BMW | K27: Erläuterung:
A28: 19 | B28: 3. Angebotswährung 3 [AW3] (optional): | F28: 8. | G28: Transportkosten Lieferant - BMW | K28: Erläuterung:
A29: 19 | B29: Sonstige Daten | G29: ANGEBOTSPREIS | L29: (Summe 1. bis 8.) | N29: =SUM(N26:N28)+N24 -> 0 | O29: =SUM(O26:O28)+O24 -> 0 | P29: =SUM(P26:P28)+P24 -> 20.21455
A30: 19 | G30: Preisindikation in Bestellwährung [AW1] | P30: =IF(AND(OR(C27=0,D27=0),OR(C28=0,D28=0)),"",P29+(O29*D27)+(N29*D28))
A31: 19
A32: 19 | B32: Teileabmessungen (LxBxH) [mm]: | G32: Einmalzahlungen
A33: 19 | B33: Teilegewicht unverpackt [kg]: | F33: 9. | G33: Entwicklungskosten | K33: Erläuterung:
A34: 19 | B34: Gesamtgewicht [kg]: | F34: 10. | G34: Sonderbetriebsmittel | K34: Erläuterung: | N34: ='SBM-SEKOF-FWZ'!T54 -> 0 | O34: ='SBM-SEKOF-FWZ'!T53 -> 0 | P34: ='SBM-SEKOF-FWZ'!T52 -> 1952300
A35: 19 | B35: Lieferbedingungen: | G35: GESAMTEINMALZAHLUNG | N35: =SUM(N33:N34) -> 0 | O35: =SUM(O33:O34) -> 0 | P35: =SUM(P33:P34) -> 1952300
A36: 19 | B36: Versorgungsart/KOVP Abrufstatus: | G36: Gesamteinmalzahlungen (Indikation) in Bestellwährung [AW1] | P36: =IF(AND(OR(C27=0,D27=0),OR(C28=0,D28=0)),"",P35+(O35*D27)+(N35*D28))
A37: 20
B38: Bemerkungen:

Sheet Material
B1: 5 | C1: 12 | D1: 20 | E1: 10 | F1: 10 | G1: 7.5 | H1: 5 | I1: 10 | J1: 5 | K1: 10 | L1: 10 | M1: 10 | N1: 10 | O1: 7.5 | P1: 10 | Q1: 10 | R1: 10 | S1: 10 | T1: 5 | U1: 10 | V1: 5 | W1: 10 | X1: 2 | Y1: 10 | Z1: 10 | AA1: 10 | AB1: 10
B2: BMW Group | G2: QUOTATION ANALYSIS FORM | Q2: Hilfe und Dokumentation | U2: b2b.bmw.com
B3: VERTRAULICH | G3: 1. Material | Q3: (siehe Nutzerleitfaden QAF Version 8.3)
B4: =Zusammenfassung!B4 -> QAF Version 8.3.02.02 © BMW AG
B5: Bearbeiter: | D5: =Zusammenfassung!$C5 -> Valeo | G5: Anbieter/Lieferant: | J5: =Zusammenfassung!$I5 -> Valeo | P5: Teilebenennung: | S5: =Zusammenfassung!$M5 -> SZL
B6: E-Mail: | D6: =HYPERLINK(CONCATENATE("mailto:",Zusammenfassung!C6),Zusammenfassung!C6) -> ulrich.wiedl@valeo.com | G6: BMW Lieferanten-Nr.: | J6: =Zusammenfassung!$I6 -> 16129510 | P6: Änderungsindex (AI): | S6: =Zusammenfassung!$M6 -> 0
B7: Telefon: | D7: =Zusammenfassung!$C7 -> 07142 916 2143 | G7: BMW Projekt: | J7: =Zusammenfassung!$I7 -> 35up | P7: Anfragenummer / Version: | S7: =Zusammenfassung!$M7 -> Zum Angebot vom 11.05.2016
B8: Angebotsdatum: | D8: =Zusammenfassung!$C8 -> 42513 | G8: BMW Sachnummer: | J8: =Zusammenfassung!$I8 -> 0 | P8: Variante: | S8: =Zusammenfassung!$M8 -> SZL 4-Band mit AIC mit FLA mit Heckwischen
D10: Beschreibung | H10: Beschaffungswährung | P10: Angaben in Angebotswährung | Y10: Befüllung nach Vorgabe BMW Einkauf
B11: Positionsnummer Fertigungsschritt | C11: Teilebenennung | D11: Benennung Rohmaterial / Kaufteil | E11: Lieferant | F11: Technische Funktion des Bauteils | G11: Mengeneinheit | H11: Beschaffungswährung [BW] | I11: Preis pro Mengeneinheit [BW] | J11: Angebotswährung [AW] | K11: Wechselkurs [AW/BW] | L11: Verpackungskosten je Mengeneinheit [AW] | M11: Transportkosten je Mengeneinheit [AW] | N11: Zollkosten je Mengeneinheit [AW] | O11: Materialgemeinkosten MGK [%] | P11: Materialkosten pro Mengeneinheit [AW] | Q11: Einsatzmenge [Einheiten] (nur Rohmaterial) | R11: Nettomenge [Einheiten] (nur Rohmaterial) | S11: Rückvergütung [AW] (nur Rohmaterial) | T11: Anzahl pro Angebotsteil | U11: Materialkosten [AW] | V11: Materialausschuss [%] | W11: Ausschusskosten Material [AW] | Y11: Rohstoffbezeichnung | Z11: Bezugsgewicht [kg] | AA11: Rohstoffnotierung Ro [AW/kg] | AB11: Rohstofffzuschlag RoZ0 [AW]
P12: =IF(G12=(Prämie),I12*K12,IF(G12=(MTZ),(I12*K12+L12+M12+N12)*(1+O12)+(O12*AA12*Z12),(I12*K12+L12+M12+N12)*(1+O12)+(O12*AA12))) -> 0 | U12: =IF(OR(G12=(Kaufteil), G12=(MTZ)), P12*T12, IF(G12=(Prämie),P12*R12*T12,(P12*Q12-S12)*T12)) -> 0 | W12: =IF(G12=(Prämie), 0, U12*(1/(1-V12)-1)) -> 0 | AB12: =IF(AND(NOT(#REF!="x"),Y12<>""), Z12*AA12, 0) -> #REF!
C13: Indicator BC/FLA lever | D13: Positionen | E13: Valeo | P13: =IF(G13=(Prämie),I13*K13,IF(G13=(MTZ),(I13*K13+L13+M13+N13)*(1+O13)+(O13*AA13*Z13),(I13*K13+L13+M13+N13)*(1+O13)+(O13*AA13))) -> 0 | U13: =IF(OR(G13=(Kaufteil), G13=(MTZ)), P13*T13, IF(G13=(Prämie),P13*R13*T13,(P13*Q13-S13)*T13)) -> 0 | W13: =IF(G13=(Prämie), 0, U13*(1/(1-V13)-1)) -> 0
B14: 1 | C14: Cover | D14: 10 | G14: Stück (Kaufteil) | H14: EUR | I14: 0.16 | J14: EUR | K14: 1 | O14: 0.038 | P14: =IF(G14=(Prämie),I14*K14,IF(G14=(MTZ),(I14*K14+L14+M14+N14)*(1+O14)+(O14*AA14*Z14),(I14*K14+L14+M14+N14)*(1+O14)+(O14*AA14))) -> 0.16608 | T14: 1 | U14: =IF(OR(G14=(Kaufteil), G14=(MTZ)), P14*T14, IF(G14=(Prämie),P14*R14*T14,(P14*Q14-S14)*T14)) -> 0.16608 | V14: 0.004 | W14: =IF(G14=(Prämie), 0, U14*(1/(1-V14)-1)) -> 0.00066698795
B15: 2 | C15: Lever | D15: 20 | G15: Stück (Kaufteil) | H15: EUR | I15: 0.238 | J15: EUR | K15: 1 | O15: 0.038 | P15: =IF(G15=(Prämie),I15*K15,IF(G15=(MTZ),(I15*K15+L15+M15+N15)*(1+O15)+(O15*AA15*Z15),(I15*K15+L15+M15+N15)*(1+O15)+(O15*AA15))) -> 0.247044 | T15: 1 | U15: =IF(OR(G15=(Kaufteil), G15=(MTZ)), P15*T15, IF(G15=(Prämie),P15*R15*T15,(P15*Q15-S15)*T15)) -> 0.247044 | V15: 0.004 | W15: =IF(G15=(Prämie), 0, U15*(1/(1-V15)-1)) -> 0.00099214458
B16: 3 | C16: Holder | D16: 30 | G16: Stück (Kaufteil) | H16: EUR | I16: 0.051 | J16: EUR | K16: 1 | O16: 0.038 | P16: =IF(G16=(Prämie),I16*K16,IF(G16=(MTZ),(I16*K16+L16+M16+N16)*(1+O16)+(O16*AA16*Z16),(I16*K16+L16+M16+N16)*(1+O16)+(O16*AA16))) -> 0.052938 | T16: 1 | U16: =IF(OR(G16=(Kaufteil), G16=(MTZ)), P16*T16, IF(G16=(Prämie),P16*R16*T16,(P16*Q16-S16)*T16)) -> 0.052938 | V16: 0.004 | W16: =IF(G16=(Prämie), 0, U16*(1/(1-V16)-1)) -> 0.00021260241
B17: 4 | C17: Button | D17: 50 | G17: Stück (Kaufteil) | H17: EUR | I17: 0.034 | J17: EUR | K17: 1 | O17: 0.038 | P17: =IF(G17=(Prämie),I17*K17,IF(G17=(MTZ),(I17*K17+L17+M17+N17)*(1+O17)+(O17*AA17*Z17),(I17*K17+L17+M17+N17)*(1+O17)+(O17*AA17))) -> 0.035292 | T17: 1 | U17: =IF(OR(G17=(Kaufteil), G17=(MTZ)), P17*T17, IF(G17=(Prämie),P17*R17*T17,(P17*Q17-S17)*T17)) -> 0.035292 | V17: 0.004 | W17: =IF(G17=(Prämie), 0, U17*(1/(1-V17)-1)) -> 0.00014173494
B18: 5 | C18: Button | D18: 55 | G18: Stück (Kaufteil) | H18: EUR | I18: 0.034 | J18: EUR | K18: 1 | O18: 0.038 | P18: =IF(G18=(Prämie),I18*K18,IF(G18=(MTZ),(I18*K18+L18+M18+N18)*(1+O18)+(O18*AA18*Z18),(I18*K18+L18+M18+N18)*(1+O18)+(O18*AA18))) -> 0.035292 | T18: 1 | U18: =IF(OR(G18=(Kaufteil), G18=(MTZ)), P18*T18, IF(G18=(Prämie),P18*R18*T18,(P18*Q18-S18)*T18)) -> 0.035292 | V18: 0.004 | W18: =IF(G18=(Prämie), 0, U18*(1/(1-V18)-1)) -> 0.00014173494
B19: 6 | C19: PCB Assy | D19: 60 | G19: Stück (Kaufteil) | H19: EUR | I19: 0.63569 | J19: EUR | K19: 1 | O19: 0.038 | P19: =IF(G19=(Prämie),I19*K19,IF(G19=(MTZ),(I19*K19+L19+M19+N19)*(1+O19)+(O19*AA19*Z19),(I19*K19+L19+M19+N19)*(1+O19)+(O19*AA19))) -> 0.65984622 | T19: 1 | U19: =IF(OR(G19=(Kaufteil), G19=(MTZ)), P19*T19, IF(G19=(Prämie),P19*R19*T19,(P19*Q19-S19)*T19)) -> 0.65984622 | V19: 0.004 | W19: =IF(G19=(Prämie), 0, U19*(1/(1-V19)-1)) -> 0.0026499848
B20: 7 | C20: Bolts | D20: 100 | G20: Stück (Kaufteil) | H20: EUR | I20: 0.08503 | J20: EUR | K20: 1 | O20: 0.038 | P20: =IF(G20=(Prämie),I20*K20,IF(G20=(MTZ),(I20*K20+L20+M20+N20)*(1+O20)+(O20*AA20*Z20),(I20*K20+L20+M20+N20)*(1+O20)+(O20*AA20))) -> 0.08826114 | T20: 1 | U20: =IF(OR(G20=(Kaufteil), G20=(MTZ)), P20*T20, IF(G20=(Prämie),P20*R20*T20,(P20*Q20-S20)*T20)) -> 0.08826114 | V20: 0.004 | W20: =IF(G20=(Prämie), 0, U20*(1/(1-V20)-1)) -> 0.00035446241
B21: 8 | C21: Switching-parts | D21: 120 | G21: Stück (Kaufteil) | H21: EUR | I21: 0.0308 | J21: EUR | K21: 1 | O21: 0.038 | P21: =IF(G21=(Prämie),I21*K21,IF(G21=(MTZ),(I21*K21+L21+M21+N21)*(1+O21)+(O21*AA21*Z21),(I21*K21+L21+M21+N21)*(1+O21)+(O21*AA21))) -> 0.0319704 | T21: 1 | U21: =IF(OR(G21=(Kaufteil), G21=(MTZ)), P21*T21, IF(G21=(Prämie),P21*R21*T21,(P21*Q21-S21)*T21)) -> 0.0319704 | V21: 0.004 | W21: =IF(G21=(Prämie), 0, U21*(1/(1-V21)-1)) -> 0.00012839518
B22: 9 | C22: Spring | D22: 130 | G22: Stück (Kaufteil) | H22: EUR | I22: 0.01936 | J22: EUR | K22: 1 | O22: 0.038 | P22: =IF(G22=(Prämie),I22*K22,IF(G22=(MTZ),(I22*K22+L22+M22+N22)*(1+O22)+(O22*AA22*Z22),(I22*K22+L22+M22+N22)*(1+O22)+(O22*AA22))) -> 0.02009568 | T22: 1 | U22: =IF(OR(G22=(Kaufteil), G22=(MTZ)), P22*T22, IF(G22=(Prämie),P22*R22*T22,(P22*Q22-S22)*T22)) -> 0.02009568 | V22: 0.004 | W22: =IF(G22=(Prämie), 0, U22*(1/(1-V22)-1)) -> 8.0705542e-05
B23: 10 | C23: Washer | D23: 140 | G23: Stück (Kaufteil) | H23: EUR | I23: 0.01562 | J23: EUR | K23: 1 | O23: 0.038 | P23: =IF(G23=(Prämie),I23*K23,IF(G23=(MTZ),(I23*K23+L23+M23+N23)*(1+O23)+(O23*AA23*Z23),(I23*K23+L23+M23+N23)*(1+O23)+(O23*AA23))) -> 0.01621356 | T23: 1 | U23: =IF(OR(G23=(Kaufteil), G23=(MTZ)), P23*T23, IF(G23=(Prämie),P23*R23*T23,(P23*Q23-S23)*T23)) -> 0.01621356 | V23: 0.004 | W23: =IF(G23=(Prämie), 0, U23*(1/(1-V23)-1)) -> 6.5114699e-05
C24: Wiper EU with RW lever | I24: 0 | P24: =IF(G24=(Prämie),I24*K24,IF(G24=(MTZ),(I24*K24+L24+M24+N24)*(1+O24)+(O24*AA24*Z24),(I24*K24+L24+M24+N24)*(1+O24)+(O24*AA24))) -> 0 | U24: =IF(OR(G24=(Kaufteil), G24=(MTZ)), P24*T24, IF(G24=(Prämie),P24*R24*T24,(P24*Q24-S24)*T24)) -> 0 | W24: =IF(G24=(Prämie), 0, U24*(1/(1-V24)-1)) -> 0
B25: 11 | C25: Cover | D25: 10 | G25: Stück (Kaufteil) | H25: EUR | I25: 0.14 | J25: EUR | K25: 1 | O25: 0.038 | P25: =IF(G25=(Prämie),I25*K25,IF(G25=(MTZ),(I25*K25+L25+M25+N25)*(1+O25)+(O25*AA25*Z25),(I25*K25+L25+M25+N25)*(1+O25)+(O25*AA25))) -> 0.14532 | T25: 1 | U25: =IF(OR(G25=(Kaufteil), G25=(MTZ)), P25*T25, IF(G25=(Prämie),P25*R25*T25,(P25*Q25-S25)*T25)) -> 0.14532 | V25: 0.004 | W25: =IF(G25=(Prämie), 0, U25*(1/(1-V25)-1)) -> 0.00058361446
B26: 12 | C26: Lever | D26: 20 | G26: Stück (Kaufteil) | H26: EUR | I26: 0.38 | J26: EUR | K26: 1 | O26: 0.038 | P26: =IF(G26=(Prämie),I26*K26,IF(G26=(MTZ),(I26*K26+L26+M26+N26)*(1+O26)+(O26*AA26*Z26),(I26*K26+L26+M26+N26)*(1+O26)+(O26*AA26))) -> 0.39444 | T26: 1 | U26: =IF(OR(G26=(Kaufteil), G26=(MTZ)), P26*T26, IF(G26=(Prämie),P26*R26*T26,(P26*Q26-S26)*T26)) -> 0.39444 | V26: 0.004 | W26: =IF(G26=(Prämie), 0, U26*(1/(1-V26)-1)) -> 0.0015840964
B27: 13 | C27: Holder | D27: 30 | G27: Stück (Kaufteil) | H27: EUR | I27: 0.068 | J27: EUR | K27: 1 | O27: 0.038 | P27: =IF(G27=(Prämie),I27*K27,IF(G27=(MTZ),(I27*K27+L27+M27+N27)*(1+O27)+(O27*AA27*Z27),(I27*K27+L27+M27+N27)*(1+O27)+(O27*AA27))) -> 0.070584 | T27: 1 | U27: =IF(OR(G27=(Kaufteil), G27=(MTZ)), P27*T27, IF(G27=(Prämie),P27*R27*T27,(P27*Q27-S27)*T27)) -> 0.070584 | V27: 0.004 | W27: =IF(G27=(Prämie), 0, U27*(1/(1-V27)-1)) -> 0.00028346988
B28: 14 | C28: Cable module Assy | D28: 70 | G28: Stück (Kaufteil) | H28: EUR | I28: 0.90673 | J28: EUR | K28: 1 | O28: 0.038 | P28: =IF(G28=(Prämie),I28*K28,IF(G28=(MTZ),(I28*K28+L28+M28+N28)*(1+O28)+(O28*AA28*Z28),(I28*K28+L28+M28+N28)*(1+O28)+(O28*AA28))) -> 0.94118574 | T28: 1 | U28: =IF(OR(G28=(Kaufteil), G28=(MTZ)), P28*T28, IF(G28=(Prämie),P28*R28*T28,(P28*Q28-S28)*T28)) -> 0.94118574 | V28: 0.004 | W28: =IF(G28=(Prämie), 0, U28*(1/(1-V28)-1)) -> 0.0037798624
B29: 15 | C29: Switching-parts | D29: 80 | G29: Stück (Kaufteil) | H29: EUR | I29: 0.04125 | J29: EUR | K29: 1 | O29: 0.038 | P29: =IF(G29=(Prämie),I29*K29,IF(G29=(MTZ),(I29*K29+L29+M29+N29)*(1+O29)+(O29*AA29*Z29),(I29*K29+L29+M29+N29)*(1+O29)+(O29*AA29))) -> 0.0428175 | T29: 1 | U29: =IF(OR(G29=(Kaufteil), G29=(MTZ)), P29*T29, IF(G29=(Prämie),P29*R29*T29,(P29*Q29-S29)*T29)) -> 0.0428175 | V29: 0.004 | W29: =IF(G29=(Prämie), 0, U29*(1/(1-V29)-1)) -> 0.00017195783
B30: 16 | C30: Collar Assy | D30: 90 | G30: Stück (Kaufteil) | H30: EUR | I30: 0.03674 | J30: EUR | K30: 1 | O30: 0.038 | P30: =IF(G30=(Prämie),I30*K30,IF(G30=(MTZ),(I30*K30+L30+M30+N30)*(1+O30)+(O30*AA30*Z30),(I30*K30+L30+M30+N30)*(1+O30)+(O30*AA30))) -> 0.03813612 | T30: 2 | U30: =IF(OR(G30=(Kaufteil), G30=(MTZ)), P30*T30, IF(G30=(Prämie),P30*R30*T30,(P30*Q30-S30)*T30)) -> 0.07627224 | V30: 0.004 | W30: =IF(G30=(Prämie), 0, U30*(1/(1-V30)-1)) -> 0.00030631422
B31: 17 | C31: Bolts | D31: 100 | G31: Stück (Kaufteil) | H31: EUR | I31: 0.08503 | J31: EUR | K31: 1 | O31: 0.038 | P31: =IF(G31=(Prämie),I31*K31,IF(G31=(MTZ),(I31*K31+L31+M31+N31)*(1+O31)+(O31*AA31*Z31),(I31*K31+L31+M31+N31)*(1+O31)+(O31*AA31))) -> 0.08826114 | T31: 1 | U31: =IF(OR(G31=(Kaufteil), G31=(MTZ)), P31*T31, IF(G31=(Prämie),P31*R31*T31,(P31*Q31-S31)*T31)) -> 0.08826114 | V31: 0.004 | W31: =IF(G31=(Prämie), 0, U31*(1/(1-V31)-1)) -> 0.00035446241
B32: 18 | C32: Electrical Plate | D32: 110 | G32: Stück (Kaufteil) | H32: EUR | I32: 0.15587 | J32: EUR | K32: 1 | O32: 0.038 | P32: =IF(G32=(Prämie),I32*K32,IF(G32=(MTZ),(I32*K32+L32+M32+N32)*(1+O32)+(O32*AA32*Z32),(I32*K32+L32+M32+N32)*(1+O32)+(O32*AA32))) -> 0.16179306 | T32: 1 | U32: =IF(OR(G32=(Kaufteil), G32=(MTZ)), P32*T32, IF(G32=(Prämie),P32*R32*T32,(P32*Q32-S32)*T32)) -> 0.16179306 | V32: 0.004 | W32: =IF(G32=(Prämie), 0, U32*(1/(1-V32)-1)) -> 0.00064977133
B33: 19 | C33: Switching-parts | D33: 120 | G33: Stück (Kaufteil) | H33: EUR | I33: 0.0308 | J33: EUR | K33: 1 | O33: 0.038 | P33: =IF(G33=(Prämie),I33*K33,IF(G33=(MTZ),(I33*K33+L33+M33+N33)*(1+O33)+(O33*AA33*Z33),(I33*K33+L33+M33+N33)*(1+O33)+(O33*AA33))) -> 0.0319704 | T33: 1 | U33: =IF(OR(G33=(Kaufteil), G33=(MTZ)), P33*T33, IF(G33=(Prämie),P33*R33*T33,(P33*Q33-S33)*T33)) -> 0.0319704 | V33: 0.004 | W33: =IF(G33=(Prämie), 0, U33*(1/(1-V33)-1)) -> 0.00012839518
B34: 20 | C34: Spring | D34: 130 | G34: Stück (Kaufteil) | H34: EUR | I34: 0.01936 | J34: EUR | K34: 1 | O34: 0.038 | P34: =IF(G34=(Prämie),I34*K34,IF(G34=(MTZ),(I34*K34+L34+M34+N34)*(1+O34)+(O34*AA34*Z34),(I34*K34+L34+M34+N34)*(1+O34)+(O34*AA34))) -> 0.02009568 | T34: 1 | U34: =IF(OR(G34=(Kaufteil), G34=(MTZ)), P34*T34, IF(G34=(Prämie),P34*R34*T34,(P34*Q34-S34)*T34)) -> 0.02009568 | V34: 0.004 | W34: =IF(G34=(Prämie), 0, U34*(1/(1-V34)-1)) -> 8.0705542e-05
B35: 21 | C35: Electrical Plate | D35: 140 | G35: Stück (Kaufteil) | H35: EUR | I35: 0.05269 | J35: EUR | K35: 1 | O35: 0.038 | P35: =IF(G35=(Prämie),I35*K35,IF(G35=(MTZ),(I35*K35+L35+M35+N35)*(1+O35)+(O35*AA35*Z35),(I35*K35+L35+M35+N35)*(1+O35)+(O35*AA35))) -> 0.05469222 | T35: 1 | U35: =IF(OR(G35=(Kaufteil), G35=(MTZ)), P35*T35, IF(G35=(Prämie),P35*R35*T35,(P35*Q35-S35)*T35)) -> 0.05469222 | V35: 0.004 | W35: =IF(G35=(Prämie), 0, U35*(1/(1-V35)-1)) -> 0.00021964747
B36: 22 | C36: cap | D36: 150 | G36: Stück (Kaufteil) | H36: EUR | I36: 0.127 | J36: EUR | K36: 1 | O36: 0.038 | P36: =IF(G36=(Prämie),I36*K36,IF(G36=(MTZ),(I36*K36+L36+M36+N36)*(1+O36)+(O36*AA36*Z36),(I36*K36+L36+M36+N36)*(1+O36)+(O36*AA36))) -> 0.131826 | T36: 1 | U36: =IF(OR(G36=(Kaufteil), G36=(MTZ)), P36*T36, IF(G36=(Prämie),P36*R36*T36,(P36*Q36-S36)*T36)) -> 0.131826 | V36: 0.004 | W36: =IF(G36=(Prämie), 0, U36*(1/(1-V36)-1)) -> 0.00052942169
... B39: 25 | C39: Guide | D39: 180 | G39: Stück (Kaufteil) | H39: EUR | I39: 0.0407 | J39: EUR | K39: 1 | O39: 0.038 | P39: =IF(G39=(Prämie),I39*K39,IF(G39=(MTZ),(I39*K39+L39+M39+N39)*(1+O39)+(O39*AA39*Z39),(I39*K39+L39+M39+N39)*(1+O39)+(O39*AA39))) -> 0.0422466 | T39: 1 | U39: =IF(OR(G39=(Kaufteil), G39=(MTZ)), P39*T39, IF(G39=(Prämie),P39*R39*T39,(P39*Q39-S39)*T39)) -> 0.0422466 | V39: 0.004 | W39: =IF(G39=(Prämie), 0, U39*(1/(1-V39)-1)) -> 0.00016966506
B40: 26 | C40: collar assy | D40: under 90 | G40: Stück (Kaufteil) | H40: EUR | I40: 0.04323 | J40: EUR | K40: 1 | O40: 0.038 | P40: =IF(G40=(Prämie),I40*K40,IF(G40=(MTZ),(I40*K40+L40+M40+N40)*(1+O40)+(O40*AA40*Z40),(I40*K40+L40+M40+N40)*(1+O40)+(O40*AA40))) -> 0.04487274 | T40: 3 | U40: =IF(OR(G40=(Kaufteil), G40=(MTZ)), P40*T40, IF(G40=(Prämie),P40*R40*T40,(P40*Q40-S40)*T40)) -> 0.13461822 | V40: 0.004 | W40: =IF(G40=(Prämie), 0, U40*(1/(1-V40)-1)) -> 0.00054063542
C41: basic switch | G41: Stück (Kaufteil) | I41: 0 | P41: =IF(G41=(Prämie),I41*K41,IF(G41=(MTZ),(I41*K41+L41+M41+N41)*(1+O41)+(O41*AA41*Z41),(I41*K41+L41+M41+N41)*(1+O41)+(O41*AA41))) -> 0 | U41: =IF(OR(G41=(Kaufteil), G41=(MTZ)), P41*T41, IF(G41=(Prämie),P41*R41*T41,(P41*Q41-S41)*T41)) -> 0 | W41: =IF(G41=(Prämie), 0, U41*(1/(1-V41)-1)) -> 0
B42: 30 | C42: Housing | D42: 10 | G42: Stück (Kaufteil) | H42: EUR | I42: 0.4895576 | J42: EUR | K42: 1 | O42: 0.038 | P42: =IF(G42=(Prämie),I42*K42,IF(G42=(MTZ),(I42*K42+L42+M42+N42)*(1+O42)+(O42*AA42*Z42),(I42*K42+L42+M42+N42)*(1+O42)+(O42*AA42))) -> 0.50816079 | T42: 1 | U42: =IF(OR(G42=(Kaufteil), G42=(MTZ)), P42*T42, IF(G42=(Prämie),P42*R42*T42,(P42*Q42-S42)*T42)) -> 0.50816079 | V42: 0.004 | W42: =IF(G42=(Prämie), 0, U42*(1/(1-V42)-1)) -> 0.0020408064
B43: 31 | C43: Driver blinker | D43: 20 | G43: Stück (Kaufteil) | H43: EUR | I43: 0.0484022 | J43: EUR | K43: 1 | O43: 0.038 | P43: =IF(G43=(Prämie),I43*K43,IF(G43=(MTZ),(I43*K43+L43+M43+N43)*(1+O43)+(O43*AA43*Z43),(I43*K43+L43+M43+N43)*(1+O43)+(O43*AA43))) -> 0.050241484 | T43: 1 | U43: =IF(OR(G43=(Kaufteil), G43=(MTZ)), P43*T43, IF(G43=(Prämie),P43*R43*T43,(P43*Q43-S43)*T43)) -> 0.050241484 | V43: 0.004 | W43: =IF(G43=(Prämie), 0, U43*(1/(1-V43)-1)) -> 0.00020177303
...

Sheet Fertigungskosten
A1: 2 | B1: 5 | C1: 12 | D1: 25 | E1: 15 | F1: 15 | G1: 5 | H1: 7.5 | I1: 7.5 | J1: 7.5 | K1: 10 | L1: 7.5 | M1: 10 | O1: 10 | P1: 10 | Q1: 10 | R1: 5 | S1: 7.5 | T1: 5 | U1: 10 | V1: 7.5 | W1: 10 | X1: 2
B2: BMW Group | F2: QUOTATION ANALYSIS FORM | Q2: Hilfe und Dokumentation | U2: b2b.bmw.com
B3: VERTRAULICH | F3: 2. Fertigungskosten | Q3: (siehe Nutzerleitfaden QAF Version 8.3)
B4: =Zusammenfassung!B4 -> QAF Version 8.3.02.02 © BMW AG
B5: Bearbeiter: | D5: =Zusammenfassung!$C5 -> Valeo | F5: Anbieter/Lieferant: | I5: =Zusammenfassung!$I5 -> Valeo | P5: Teilebenennung: | R5: =Zusammenfassung!$M5 -> SZL
B6: E-Mail: | D6: =HYPERLINK(CONCATENATE("mailto:",Zusammenfassung!C6),Zusammenfassung!C6) -> ulrich.wiedl@valeo.com | F6: BMW Lieferanten-Nr.: | I6: =Zusammenfassung!$I6 -> 16129510 | P6: Änderungsindex (AI): | R6: =Zusammenfassung!$M6 -> 0
B7: Telefon: | D7: =Zusammenfassung!$C7 -> 07142 916 2143 | F7: BMW Projekt: | I7: =Zusammenfassung!$I7 -> 35up | P7: Anfragenr. / Version: | R7: =Zusammenfassung!$M7 -> Zum Angebot vom 11.05.2016
B8: Angebotsdatum: | D8: =Zusammenfassung!$C8 -> 42513 | F8: BMW Sachnummer: | I8: =Zusammenfassung!$I8 -> 0 | P8: Variante: | R8: =Zusammenfassung!$M8 -> SZL 4-Band mit AIC mit FLA mit Heckwischen
D10: Beschreibung | K10: Angaben in Beschaffungswährung | S10: Angaben in Angebotswährung | Z10: Angaben in Angebotswährung
B11: Positionsnummer Fertigungsschritt | C11: Teilebenennung | D11: Prozessbezeichnung | E11: Bezeichnung Anlage/Maschine/Typ | F11: Standort | G11: Beschaffungswährung BW | H11: Zykluszeit [s] | I11: Teile pro Zyklus | J11: Anzahl direkte Mitarbeiter | K11: Direkter Lohn [BW/h] | L11: Sozialgemeinkosten SGK [%] | M11: Maschinenstundensatz MSS [BW/h] | N11: Rüstkosten pro Stück [BW] | O11: Fertigungseinzelkosten FEK [BW] | P11: Restfertigungsgemeinkosten (RFGK) Stundensatz [BW/h] | Q11: Fertigungskosten FK [BW] | R11: Angebotswährung AW | S11: Wechselkurs [AW/BW] | T11: Anzahl pro Angebotsteil | U11: Fertigungskosten FK [AW] | V11: Ausschuss pro Prozessschritt [%] | W11: Ausschusskosten Fertigung [AW] | Y11: Personalkosten Angebot [AW] | Z11: Maschinenkosten Angebot [AW] | AA11: Rüstkosten [AW] | AB11: Fertigungseinzel- kosten Angebot [AW] | AC11: Restfertigungsgemein- kosten Angebot [AW]
O12: =IF(I12>0, ((J12*K12*(1+L12) + M12)*H12/I12/3600)+N12, 0) -> 0 | Q12: =IF(I12>0,((J12*K12*(1+L12) + M12+ P12)*H12/I12/3600)+N12, 0) -> 0 | U12: =Q12*S12*T12 -> 0 | W12: =U12*(1/(1-V12)-1) -> 0 | Y12: =IF(I12>0, J12*K12*(L12+1)*H12/I12/3600*S12*T12, 0) -> 0 | Z12: =IF(I12>0, M12*H12/I12/3600*S12*T12, 0) -> 0 | AA12: =IF(I12>0,N12*S12*T12,"") | AB12: =O12*S12*T12 -> 0 | AC12: =IF(I12>0, P12*H12/I12/3600*S12*T12, 0) -> 0
B13: 1 | C13: Endmontage, Basic switch Montage, TSC Montage, CoS Montage | D13: halbautomatisch | F13: Veszprém | G13: EUR | O13: 0 | Q13: 0 | R13: EUR | S13: 1 | T13: 1 | U13: 0.94 | V13: 0.004 | W13: =U13*(1/(1-V13)-1) -> 0.0037751004 | Y13: =IF(I13>0, J13*K13*(L13+1)*H13/I13/3600*S13*T13, 0) -> 0 | Z13: =IF(I13>0, M13*H13/I13/3600*S13*T13, 0) -> 0 | AA13: =IF(I13>0,N13*S13*T13,"") | AB13: =O13*S13*T13 -> 0 | AC13: =IF(I13>0, P13*H13/I13/3600*S13*T13, 0) -> 0
B14: 2 | C14: Zus.Leitungsmodul 4-Band | D14: halbautomatisch | F14: Veszprém | G14: EUR | O14: 0 | Q14: 0 | R14: EUR | S14: 1 | T14: 1 | U14: 0.9 | V14: 0.004 | W14: =U14*(1/(1-V14)-1) -> 0.0036144578 | Y14: =IF(I14>0, J14*K14*(L14+1)*H14/I14/3600*S14*T14, 0) -> 0 | Z14: =IF(I14>0, M14*H14/I14/3600*S14*T14, 0) -> 0 | AA14: =IF(I14>0,N14*S14*T14,"") | AB14: =O14*S14*T14 -> 0 | AC14: =IF(I14>0, P14*H14/I14/3600*S14*T14, 0) -> 0
B15: 3 | C15: Blinekr Lever Montage incl. Test | D15: handarbeit | F15: Ben Arous | G15: EUR | R15: EUR | S15: 1 | T15: 1 | U15: 0.52 | V15: 0.004 | W15: =U15*(1/(1-V15)-1) -> 0.0020883534 | Y15: =IF(I15>0, J15*K15*(L15+1)*H15/I15/3600*S15*T15, 0) -> 0 | Z15: =IF(I15>0, M15*H15/I15/3600*S15*T15, 0) -> 0 | AA15: =IF(I15>0,N15*S15*T15,"") | AB15: =O15*S15*T15 -> 0 | AC15: =IF(I15>0, P15*H15/I15/3600*S15*T15, 0) -> 0
B16: 4 | C16: Wischer Lever Montage incl. Test | D16: handarbeit | F16: Ben Arous | G16: EUR | O16: =IF(I16>0, ((J16*K16*(1+L16) + M16)*H16/I16/3600)+N16, 0) -> 0 | Q16: =IF(I16>0,((J16*K16*(1+L16) + M16+ P16)*H16/I16/3600)+N16, 0) -> 0 | R16: EUR | S16: 1 | T16: 1 | U16: 0.56 | V16: 0.004 | W16: =U16*(1/(1-V16)-1) -> 0.002248996 | Y16: =IF(I16>0, J16*K16*(L16+1)*H16/I16/3600*S16*T16, 0) -> 0 | Z16: =IF(I16>0, M16*H16/I16/3600*S16*T16, 0) -> 0 | AA16: =IF(I16>0,N16*S16*T16,"") | AB16: =O16*S16*T16 -> 0 | AC16: =IF(I16>0, P16*H16/I16/3600*S16*T16, 0) -> 0
Y17: =IF(I17>0, J17*K17*(L17+1)*H17/I17/3600*S17*T17, 0) -> 0 | Z17: =IF(I17>0, M17*H17/I17/3600*S17*T17, 0) -> 0 | AA17: =IF(I17>0,N17*S17*T17,"") | AB17: =O17*S17*T17 -> 0 | AC17: =IF(I17>0, P17*H17/I17/3600*S17*T17, 0) -> 0
Y18: =IF(I18>0, J18*K18*(L18+1)*H18/I18/3600*S18*T18, 0) -> 0 | Z18: =IF(I18>0, M18*H18/I18/3600*S18*T18, 0) -> 0 | AA18: =IF(I18>0,N18*S18*T18,"") | AB18: =O18*S18*T18 -> 0 | AC18: =IF(I18>0, P18*H18/I18/3600*S18*T18, 0) -> 0
Y19: =IF(I19>0, J19*K19*(L19+1)*H19/I19/3600*S19*T19, 0) -> 0 | Z19: =IF(I19>0, M19*H19/I19/3600*S19*T19, 0) -> 0 | AA19: =IF(I19>0,N19*S19*T19,"") | AB19: =O19*S19*T19 -> 0 | AC19: =IF(I19>0, P19*H19/I19/3600*S19*T19, 0) -> 0
O20: =IF(I20>0, ((J20*K20*(1+L20) + M20)*H20/I20/3600)+N20, 0) -> 0 | Q20: =IF(I20>0,((J20*K20*(1+L20) + M20+ P20)*H20/I20/3600)+N20, 0) -> 0 | U20: =Q20*S20*T20 -> 0 | W20: =U20*(1/(1-V20)-1) -> 0 | Y20: =IF(I20>0, J20*K20*(L20+1)*H20/I20/3600*S20*T20, 0) -> 0 | Z20: =IF(I20>0, M20*H20/I20/3600*S20*T20, 0) -> 0 | AA20: =IF(I20>0,N20*S20*T20,"") | AB20: =O20*S20*T20 -> 0 | AC20: =IF(I20>0, P20*H20/I20/3600*S20*T20, 0) -> 0
O21: =IF(I21>0, ((J21*K21*(1+L21) + M21)*H21/I21/3600)+N21, 0) -> 0 | Q21: =IF(I21>0,((J21*K21*(1+L21) + M21+ P21)*H21/I21/3600)+N21, 0) -> 0 | U21: =Q21*S21*T21 -> 0 | W21: =U21*(1/(1-V21)-1) -> 0 | Y21: =IF(I21>0, J21*K21*(L21+1)*H21/I21/3600*S21*T21, 0) -> 0 | Z21: =IF(I21>0, M21*H21/I21/3600*S21*T21, 0) -> 0 | AA21: =IF(I21>0,N21*S21*T21,"") | AB21: =O21*S21*T21 -> 0 | AC21: =IF(I21>0, P21*H21/I21/3600*S21*T21, 0) -> 0
O22: =IF(I22>0, ((J22*K22*(1+L22) + M22)*H22/I22/3600)+N22, 0) -> 0 | Q22: =IF(I22>0,((J22*K22*(1+L22) + M22+ P22)*H22/I22/3600)+N22, 0) -> 0 | U22: =Q22*S22*T22 -> 0 | W22: =U22*(1/(1-V22)-1) -> 0 | Y22: =IF(I22>0, J22*K22*(L22+1)*H22/I22/3600*S22*T22, 0) -> 0 | Z22: =IF(I22>0, M22*H22/I22/3600*S22*T22, 0) -> 0 | AA22: =IF(I22>0,N22*S22*T22,"") | AB22: =O22*S22*T22 -> 0 | AC22: =IF(I22>0, P22*H22/I22/3600*S22*T22, 0) -> 0
O23: =IF(I23>0, ((J23*K23*(1+L23) + M23)*H23/I23/3600)+N23, 0) -> 0 | Q23: =IF(I23>0,((J23*K23*(1+L23) + M23+ P23)*H23/I23/3600)+N23, 0) -> 0 | U23: =Q23*S23*T23 -> 0 | W23: =U23*(1/(1-V23)-1) -> 0 | Y23: =IF(I23>0, J23*K23*(L23+1)*H23/I23/3600*S23*T23, 0) -> 0 | Z23: =IF(I23>0, M23*H23/I23/3600*S23*T23, 0) -> 0 | AA23: =IF(I23>0,N23*S23*T23,"") | AB23: =O23*S23*T23 -> 0 | AC23: =IF(I23>0, P23*H23/I23/3600*S23*T23, 0) -> 0
O24: =IF(I24>0, ((J24*K24*(1+L24) + M24)*H24/I24/3600)+N24, 0) -> 0 | Q24: =IF(I24>0,((J24*K24*(1+L24) + M24+ P24)*H24/I24/3600)+N24, 0) -> 0 | U24: =Q24*S24*T24 -> 0 | W24: =U24*(1/(1-V24)-1) -> 0 | Y24: =IF(I24>0, J24*K24*(L24+1)*H24/I24/3600*S24*T24, 0) -> 0 | Z24: =IF(I24>0, M24*H24/I24/3600*S24*T24, 0) -> 0 | AA24: =IF(I24>0,N24*S24*T24,"") | AB24: =O24*S24*T24 -> 0 | AC24: =IF(I24>0, P24*H24/I24/3600*S24*T24, 0) -> 0
O25: =IF(I25>0, ((J25*K25*(1+L25) + M25)*H25/I25/3600)+N25, 0) -> 0 | Q25: =IF(I25>0,((J25*K25*(1+L25) + M25+ P25)*H25/I25/3600)+N25, 0) -> 0 | U25: =Q25*S25*T25 -> 0 | W25: =U25*(1/(1-V25)-1) -> 0 | Y25: =IF(I25>0, J25*K25*(L25+1)*H25/I25/3600*S25*T25, 0) -> 0 | Z25: =IF(I25>0, M25*H25/I25/3600*S25*T25, 0) -> 0 | AA25: =IF(I25>0,N25*S25*T25,"") | AB25: =O25*S25*T25 -> 0 | AC25: =IF(I25>0, P25*H25/I25/3600*S25*T25, 0) -> 0
O26: =IF(I26>0, ((J26*K26*(1+L26) + M26)*H26/I26/3600)+N26, 0) -> 0 | Q26: =IF(I26>0,((J26*K26*(1+L26) + M26+ P26)*H26/I26/3600)+N26, 0) -> 0 | U26: =Q26*S26*T26 -> 0 | W26: =U26*(1/(1-V26)-1) -> 0 | Y26: =IF(I26>0, J26*K26*(L26+1)*H26/I26/3600*S26*T26, 0) -> 0 | Z26: =IF(I26>0, M26*H26/I26/3600*S26*T26, 0) -> 0 | AA26: =IF(I26>0,N26*S26*T26,"") | AB26: =O26*S26*T26 -> 0 | AC26: =IF(I26>0, P26*H26/I26/3600*S26*T26, 0) -> 0
O27: =IF(I27>0, ((J27*K27*(1+L27) + M27)*H27/I27/3600)+N27, 0) -> 0 | Q27: =IF(I27>0,((J27*K27*(1+L27) + M27+ P27)*H27/I27/3600)+N27, 0) -> 0 | U27: =Q27*S27*T27 -> 0 | W27: =U27*(1/(1-V27)-1) -> 0 | Y27: =IF(I27>0, J27*K27*(L27+1)*H27/I27/3600*S27*T27, 0) -> 0 | Z27: =IF(I27>0, M27*H27/I27/3600*S27*T27, 0) -> 0 | AA27: =IF(I27>0,N27*S27*T27,"") | AB27: =O27*S27*T27 -> 0 | AC27: =IF(I27>0, P27*H27/I27/3600*S27*T27, 0) -> 0
O28: =IF(I28>0, ((J28*K28*(1+L28) + M28)*H28/I28/3600)+N28, 0) -> 0 | Q28: =IF(I28>0,((J28*K28*(1+L28) + M28+ P28)*H28/I28/3600)+N28, 0) -> 0 | U28: =Q28*S28*T28 -> 0 | W28: =U28*(1/(1-V28)-1) -> 0 | Y28: =IF(I28>0, J28*K28*(L28+1)*H28/I28/3600*S28*T28, 0) -> 0 | Z28: =IF(I28>0, M28*H28/I28/3600*S28*T28, 0) -> 0 | AA28: =IF(I28>0,N28*S28*T28,"") | AB28: =O28*S28*T28 -> 0 | AC28: =IF(I28>0, P28*H28/I28/3600*S28*T28, 0) -> 0
O29: =IF(I29>0, ((J29*K29*(1+L29) + M29)*H29/I29/3600)+N29, 0) -> 0 | Q29: =IF(I29>0,((J29*K29*(1+L29) + M29+ P29)*H29/I29/3600)+N29, 0) -> 0 | U29: =Q29*S29*T29 -> 0 | W29: =U29*(1/(1-V29)-1) -> 0 | Y29: =IF(I29>0, J29*K29*(L29+1)*H29/I29/3600*S29*T29, 0) -> 0 | Z29: =IF(I29>0, M29*H29/I29/3600*S29*T29, 0) -> 0 | AA29: =IF(I29>0,N29*S29*T29,"") | AB29: =O29*S29*T29 -> 0 | AC29: =IF(I29>0, P29*H29/I29/3600*S29*T29, 0) -> 0
O30: =IF(I30>0, ((J30*K30*(1+L30) + M30)*H30/I30/3600)+N30, 0) -> 0 | Q30: =IF(I30>0,((J30*K30*(1+L30) + M30+ P30)*H30/I30/3600)+N30, 0) -> 0 | U30: =Q30*S30*T30 -> 0 | W30: =U30*(1/(1-V30)-1) -> 0 | Y30: =IF(I30>0, J30*K30*(L30+1)*H30/I30/3600*S30*T30, 0) -> 0 | Z30: =IF(I30>0, M30*H30/I30/3600*S30*T30, 0) -> 0 | AA30: =IF(I30>0,N30*S30*T30,"") | AB30: =O30*S30*T30 -> 0 | AC30: =IF(I30>0, P30*H30/I30/3600*S30*T30, 0) -> 0
O31: =IF(I31>0, ((J31*K31*(1+L31) + M31)*H31/I31/3600)+N31, 0) -> 0 | Q31: =IF(I31>0,((J31*K31*(1+L31) + M31+ P31)*H31/I31/3600)+N31, 0) -> 0 | U31: =Q31*S31*T31 -> 0 | W31: =U31*(1/(1-V31)-1) -> 0 | Y31: =IF(I31>0, J31*K31*(L31+1)*H31/I31/3600*S31*T31, 0) -> 0 | Z31: =IF(I31>0, M31*H31/I31/3600*S31*T31, 0) -> 0 | AA31: =IF(I31>0,N31*S31*T31,"") | AB31: =O31*S31*T31 -> 0 | AC31: =IF(I31>0, P31*H31/I31/3600*S31*T31, 0) -> 0
... O34: =IF(I34>0, ((J34*K34*(1+L34) + M34)*H34/I34/3600)+N34, 0) -> 0 | Q34: =IF(I34>0,((J34*K34*(1+L34) + M34+ P34)*H34/I34/3600)+N34, 0) -> 0 | U34: =Q34*S34*T34 -> 0 | W34: =U34*(1/(1-V34)-1) -> 0 | Y34: =IF(I34>0, J34*K34*(L34+1)*H34/I34/3600*S34*T34, 0) -> 0 | Z34: =IF(I34>0, M34*H34/I34/3600*S34*T34, 0) -> 0 | AA34: =IF(I34>0,N34*S34*T34,"") | AB34: =O34*S34*T34 -> 0 | AC34: =IF(I34>0, P34*H34/I34/3600*S34*T34, 0) -> 0
B36: Summen | N36: Rüsten | O36: FEK | P36: RFGK | U36: Fertigung | W36: Ausschuss
K37: =Zusammenfassung!$C$26 -> EUR | N37: =SUMIF(INDIRECT("$R12:$R"&EndZProcesses),$K37,INDIRECT("AA12:AA"&EndZProcesses)) -> 0 | O37: =SUMIF(INDIRECT("$R12:$R"&EndZProcesses),$K37,INDIRECT("AB12:AB"&EndZProcesses)) -> 0 | P37: =SUMIF(INDIRECT("$R12:$R"&EndZProcesses),$K37,INDIRECT("AC12:AC"&EndZProcesses)) -> 0 | U37: =SUMIF(INDIRECT("$R12:$R"&EndZProcesses),$K37,INDIRECT("U12:U"&EndZProcesses)) -> 2.92 | W37: =SUMIF(INDIRECT("$R12:$R"&EndZProcesses),$K37,INDIRECT("W12:W"&EndZProcesses)) -> 0.011726908
K38: =Zusammenfassung!$C$27 -> 0 | N38: =SUMIF(INDIRECT("$R12:$R"&EndZProcesses),$K38,INDIRECT("AA12:AA"&EndZProcesses)) -> 0 | O38: =SUMIF(INDIRECT("$R12:$R"&EndZProcesses),$K38,INDIRECT("AB12:AB"&EndZProcesses)) -> 0 | P38: =SUMIF(INDIRECT("$R12:$R"&EndZProcesses),$K38,INDIRECT("AC12:AC"&EndZProcesses)) -> 0 | U38: =SUMIF(INDIRECT("$R12:$R"&EndZProcesses),$K38,INDIRECT("U12:U"&EndZProcesses)) -> 0 | W38: =SUMIF(INDIRECT("$R12:$R"&EndZProcesses),$K38,INDIRECT("W12:W"&EndZProcesses)) -> 0
B39: Zusätzliche Zeile: Leerzeile kopieren und vor letzter Zeile einfügen | K39: =Zusammenfassung!$C$28 -> 0 | N39: =SUMIF(INDIRECT("$R12:$R"&EndZProcesses),$K39,INDIRECT("AA12:AA"&EndZProcesses)) -> 0 | O39: =SUMIF(INDIRECT("$R12:$R"&EndZProcesses),$K39,INDIRECT("AB12:AB"&EndZProcesses)) -> 0 | P39: =SUMIF(INDIRECT("$R12:$R"&EndZProcesses),$K39,INDIRECT("AC12:AC"&EndZProcesses)) -> 0 | U39: =SUMIF(INDIRECT("$R12:$R"&EndZProcesses),$K39,INDIRECT("U12:U"&EndZProcesses)) -> 0 | W39: =SUMIF(INDIRECT("$R12:$R"&EndZProcesses),$K39,INDIRECT("W12:W"&EndZProcesses)) -> 0
U82: =SUMIF(INDIRECT("$J12:$J"&EndZMaterials),$K82,INDIRECT("U12:U"&EndZMaterials)) -> 0

Sheet SBM-SEKOF-FWZ
C1: 8 | D1: 5 | E1: 22 | G1: 7.5 | H1: 7.5 | I1: 7.5 | J1: 7.5 | L1: 7.5 | M1: 15 | N1: 5 | O1: 12.5 | P1: 5 | Q1: 7.5 | R1: 7.5 | S1: 12.5 | T1: 12.5 | U1: 10
B2: BMW Group | G2: QUOTATION ANALYSIS FORM | P2: Hilfe und Dokumentation | T2: b2b.bmw.com
B3: VERTRAULICH | G3: 3. SBM, SEKOF und Folgewerkzeuge | P3: (siehe Nutzerleitfaden QAF Version 8.3)
B4: =Zusammenfassung!B4 -> QAF Version 8.3.02.02 © BMW AG
B5: Bearbeiter: | E5: =Zusammenfassung!$C5 -> Valeo | G5: Anbieter/Lieferant: | J5: =Zusammenfassung!$I5 -> Valeo | O5: Teilebenennung: | R5: =Zusammenfassung!$M5 -> SZL
B6: E-Mail: | E6: =HYPERLINK(CONCATENATE("mailto:",Zusammenfassung!C6),Zusammenfassung!C6) -> ulrich.wiedl@valeo.com | G6: BMW Lieferanten-Nr.: | J6: =Zusammenfassung!$I6 -> 16129510 | O6: Änderungsindex (AI): | R6: =Zusammenfassung!$M6 -> 0
B7: Telefon: | E7: =Zusammenfassung!$C7 -> 07142 916 2143 | G7: BMW Projekt: | J7: =Zusammenfassung!$I7 -> 35up | O7: Anfragenummer / Version: | R7: =Zusammenfassung!$M7 -> Zum Angebot vom 11.05.2016
B8: Angebotsdatum: | E8: =Zusammenfassung!$C8 -> 42513 | G8: BMW Sachnummer: | J8: =Zusammenfassung!$I8 -> 0 | O8: Variante: | R8: =Zusammenfassung!$M8 -> SZL 4-Band mit AIC mit FLA mit Heckwischen
G10: Beschreibung | M10: Angaben in Beschaffungswährung | S10: Angaben in Angebotswährung
B11: Positionsnummer Fertigungsschritt | C11: Verrechnungsform | D11: WAF vorhanden [ja/nein] | E11: Werkzeug-/ Vorrichtungsart | F11: Bemerkung | G11: Auslegung / Kavitäten [x-fach] | H11: Kapazität je AT [Teile] 1-Schicht | I11: Kapazität je AT [Teile] 2-Schicht | J11: Kapazität je AT [Teile] 3-Schicht | K11: Standzeit [Zyklen] | L11: Auftragszeit [Wochen] | M11: Standort des Herstellers | N11: Beschaffungswährung BW | O11: Werkzeug- / Vorrichtungskosten [BW] | P11: Angebotswährung AW | Q11: Wechselkurs [AW/BW] | R11: Anzahl Werkzeuge / Vorrichtungen | S11: Summe Werkzeug- / Vorrichtungskosten [AW] | T11: Summe Werkzeug- / Vorrichtungskosten SBM [AW] | U11: SEKOF + Folgewerkzeuge + Werkzeuginstandhaltung pro Stück [AW] | W11: Plausibilitätsprüfung "Verrechnungsform" | X11: Plausibilitätsprüfung "Werkzeugart" | Z11: Valeo Begründung warum gewisse Werkzeuge in Deutschl. verbleiben sollten
S12: =R12*O12*Q12 -> 0 | T12: =IF(C12="SBM", S12, 0) -> 0 | W12: =$C12 -> 0 | X12: =IF(ISERROR(VLOOKUP(E12,(SBM_2),2,0)),VLOOKUP(E12,(SEKOF_2),2,0),VLOOKUP(E12,(SBM_2),2,0)) -> #N/A
B13: 1 | C13: SBM | E13: Spritzgießwerkzeug | F13: CS4 Band POS 80 - Hub latching | G13: 4 | M13: Deutschland | N13: EUR | O13: 71600 | P13: EUR | R13: 1 | S13: =O13*R13 -> 71600 | T13: =IF(C13="SBM", S13, 0) -> 71600 | W13: =$C13 -> SBM | X13: =IF(ISERROR(VLOOKUP(E13,(SBM_2),2,0)),VLOOKUP(E13,(SEKOF_2),2,0),VLOOKUP(E13,(SBM_2),2,0)) -> SBM | Z13: 412983 verzugsanfällig , hoher Polieraufwand , Abstimmung zum Gehäuse 050 erforderlich
B14: 2 | C14: SBM | E14: Spritzgießwerkzeug | F14: CS4 Band PS 40 cover - latching | G14: 4 | M14: Deutschland | N14: EUR | O14: 89900 | P14: EUR | R14: 1 | S14: =O14*R14 -> 89900 | T14: =IF(C14="SBM", S14, 0) -> 89900 | W14: =$C14 -> SBM | X14: =IF(ISERROR(VLOOKUP(E14,(SBM_2),2,0)),VLOOKUP(E14,(SEKOF_2),2,0),VLOOKUP(E14,(SBM_2),2,0)) -> SBM | Z14: 412988 sehr verzugsanfällig , mehrere Schieber notwendig , Abstimmung zum Hub 080 notwendig , enge Zeichnungstoleranzen
B15: 3 | C15: SBM | E15: Spritzgießwerkzeug | F15: CS4 Band POS 50 housing - latching | G15: 4 | M15: Deutschland | N15: EUR | O15: 89900 | P15: EUR | R15: 1 | S15: =O15*R15 -> 89900 | T15: =IF(C15="SBM", S15, 0) -> 89900 | W15: =$C15 -> SBM | X15: =IF(ISERROR(VLOOKUP(E15,(SBM_2),2,0)),VLOOKUP(E15,(SEKOF_2),2,0),VLOOKUP(E15,(SBM_2),2,0)) -> SBM | Z15: 412987 sehr verzugsanfällig , Schieber notwendig , Abstimmung zum Hub 080, enge Zeichnungstol.
B16: 4 | C16: SBM | E16: Spritzgießwerkzeug | F16: CS4 Band POS 60 cover - G | G16: 4 | M16: Deutschland | N16: EUR | O16: 79900 | P16: EUR | R16: 1 | S16: =O16*R16 -> 79900 | T16: =IF(C16="SBM", S16, 0) -> 79900 | W16: =$C16 -> SBM | X16: =IF(ISERROR(VLOOKUP(E16,(SBM_2),2,0)),VLOOKUP(E16,(SEKOF_2),2,0),VLOOKUP(E16,(SBM_2),2,0)) -> SBM | Z16: 412986 verzugsanfällig , Asienvergabe möglich (Vergleichsangebot TK Mold 86200.-€)
B17: 5 | C17: SBM | E17: Spritzgießwerkzeug | F17: CS4 Band POS 100 fuse | G17: 4 | M17: Deutschland | N17: EUR | O17: 36900 | P17: EUR | R17: 1 | S17: =O17*R17 -> 36900 | T17: =IF(C17="SBM", S17, 0) -> 36900 | W17: =$C17 -> SBM | X17: =IF(ISERROR(VLOOKUP(E17,(SBM_2),2,0)),VLOOKUP(E17,(SEKOF_2),2,0),VLOOKUP(E17,(SBM_2),2,0)) -> SBM | Z17: 412980 Asienvergabe möglich (Vergleichsangebot TK mold 33300.- €)
B18: 6 | C18: SBM | E18: Spritzgießwerkzeug | F18: basic switch POS 10 Housing | G18: 4 | M18: Deutschland | N18: EUR | O18: 179500 | P18: EUR | R18: 1 | S18: =O18*R18 -> 179500 | T18: =IF(C18="SBM", S18, 0) -> 179500 | W18: =$C18 -> SBM | X18: =IF(ISERROR(VLOOKUP(E18,(SBM_2),2,0)),VLOOKUP(E18,(SEKOF_2),2,0),VLOOKUP(E18,(SBM_2),2,0)) -> SBM | Z18: 413308 verzugsanfällig , enge Toleranzen , hoher Abstimmungsaufwand erforderlich
B19: 7 | C19: SBM | E19: Spritzgießwerkzeug | F19: basic switch POS 90 Cover | G19: 4 | M19: Deutschland | N19: EUR | O19: 145000 | P19: EUR | R19: 1 | S19: =O19*R19 -> 145000 | T19: =IF(C19="SBM", S19, 0) -> 145000 | W19: =$C19 -> SBM | X19: =IF(ISERROR(VLOOKUP(E19,(SBM_2),2,0)),VLOOKUP(E19,(SEKOF_2),2,0),VLOOKUP(E19,(SBM_2),2,0)) -> SBM | Z19: 413307 verzugsanfällig , enge Toleranzen , hoher Abstimmungsaufwand erforderlich , auch zum Housing 010
B20: 8 | C20: SBM | E20: Spritzgießwerkzeug | F20: basic switch POS 30 Driver Turn Signal | G20: 4 | M20: Deutschland | N20: EUR | O20: 79000 | P20: EUR | R20: 1 | S20: =O20*R20 -> 79000 | T20: =IF(C20="SBM", S20, 0) -> 79000 | W20: =$C20 -> SBM | X20: =IF(ISERROR(VLOOKUP(E20,(SBM_2),2,0)),VLOOKUP(E20,(SEKOF_2),2,0),VLOOKUP(E20,(SBM_2),2,0)) -> SBM | Z20: 413309 sehr verzugsanfällig, hoher Abstimmungsaufwand ,enge Toleranzen , Abstimmung mit Housing und cover notwendig , mit Wechseleinsätzen (TK mold 90200.-€)
B21: 9 | C21: SBM | E21: Spritzgießwerkzeug | F21: basic switch POS 80 Shift lever (FAS/SWS) | G21: 8 | M21: Deutschland | N21: EUR | O21: 34000 | P21: EUR | R21: 1 | S21: =O21*R21 -> 34000 | T21: =IF(C21="SBM", S21, 0) -> 34000 | W21: =$C21 -> SBM | X21: =IF(ISERROR(VLOOKUP(E21,(SBM_2),2,0)),VLOOKUP(E21,(SEKOF_2),2,0),VLOOKUP(E21,(SBM_2),2,0)) -> SBM | Z21: 413314 Asienvergabe möglich (Vergleichsangebot TK mold 56700.- €)
B22: 10 | C22: SBM | E22: Spritzgießwerkzeug | F22: basic switch POS 60 Catch (Turn Signal) | G22: 8 | M22: Deutschland | N22: EUR | O22: 18500 | P22: EUR | R22: 1 | S22: =O22*R22 -> 18500 | T22: =IF(C22="SBM", S22, 0) -> 18500 | W22: =$C22 -> SBM | X22: =IF(ISERROR(VLOOKUP(E22,(SBM_2),2,0)),VLOOKUP(E22,(SEKOF_2),2,0),VLOOKUP(E22,(SBM_2),2,0)) -> SBM | Z22: 413312 Asienvergabe möglich (Vergleichsangebot TK mold 61000.- €)
B23: 11 | C23: SBM | E23: Spritzgießwerkzeug | F23: basic switch POS 40 Catch (Wiper) | G23: 8 | M23: Deutschland | N23: EUR | O23: 18500 | P23: EUR | R23: 1 | S23: =O23*R23 -> 18500 | T23: =IF(C23="SBM", S23, 0) -> 18500 | W23: =$C23 -> SBM | X23: =IF(ISERROR(VLOOKUP(E23,(SBM_2),2,0)),VLOOKUP(E23,(SEKOF_2),2,0),VLOOKUP(E23,(SBM_2),2,0)) -> SBM | Z23: 413313 Asienvergabe möglich (Vergleichsangebot TK mold 61000.- €)
B24: 12 | C24: SBM | E24: Spritzgießwerkzeug | F24: Indicator BC/FLA lever POS 20 Cover FAS | G24: 4 | M24: Rumänien /Asien/Tunesien | N24: EUR | O24: 60000 | P24: EUR | R24: 1 | S24: =O24*R24 -> 60000 | T24: =IF(C24="SBM", S24, 0) -> 60000 | W24: =$C24 -> SBM | X24: =IF(ISERROR(VLOOKUP(E24,(SBM_2),2,0)),VLOOKUP(E24,(SEKOF_2),2,0),VLOOKUP(E24,(SBM_2),2,0)) -> SBM
B25: 13 | C25: SBM | E25: Spritzgießwerkzeug | F25: Turnsignal BC Only POS 10 Lever FAS NOT printed w/o rib | G25: 2 | M25: Rumänien /Asien/Tunesien | N25: EUR | O25: 62500 | P25: EUR | R25: 2 | S25: =O25*R25 -> 125000 | T25: =IF(C25="SBM", S25, 0) -> 125000 | W25: =$C25 -> SBM | X25: =IF(ISERROR(VLOOKUP(E25,(SBM_2),2,0)),VLOOKUP(E25,(SEKOF_2),2,0),VLOOKUP(E25,(SBM_2),2,0)) -> SBM
B26: 14 | C26: SBM | E26: Spritzgießwerkzeug | F26: Indicator BC/FLA lever POS 30 Holder | G26: 4 | M26: Rumänien /Asien/Tunesien | N26: EUR | O26: 23700 | P26: EUR | R26: 1 | S26: =O26*R26 -> 23700 | T26: =IF(C26="SBM", S26, 0) -> 23700 | W26: =$C26 -> SBM | X26: =IF(ISERROR(VLOOKUP(E26,(SBM_2),2,0)),VLOOKUP(E26,(SEKOF_2),2,0),VLOOKUP(E26,(SBM_2),2,0)) -> SBM
B27: 15 | C27: SBM | E27: Spritzgießwerkzeug | F27: Turnsignal BC Only POS 40 Button BC Only | G27: 4 | M27: Rumänien /Asien/Tunesien | N27: EUR | O27: 19000 | P27: EUR | R27: 1 | S27: =O27*R27 -> 19000 | T27: =IF(C27="SBM", S27, 0) -> 19000 | W27: =$C27 -> SBM | X27: =IF(ISERROR(VLOOKUP(E27,(SBM_2),2,0)),VLOOKUP(E27,(SEKOF_2),2,0),VLOOKUP(E27,(SBM_2),2,0)) -> SBM
B28: 16 | C28: SBM | E28: Spritzgießwerkzeug | F28: Indicator BC/FLA lever POS 50 Button FAS BC - small | G28: 4 | M28: Rumänien /Asien/Tunesien | N28: EUR | O28: 19000 | P28: EUR | R28: 1 | S28: =O28*R28 -> 19000 | T28: =IF(C28="SBM", S28, 0) -> 19000 | W28: =$C28 -> SBM | X28: =IF(ISERROR(VLOOKUP(E28,(SBM_2),2,0)),VLOOKUP(E28,(SEKOF_2),2,0),VLOOKUP(E28,(SBM_2),2,0)) -> SBM
B29: 17 | C29: SBM | E29: Spritzgießwerkzeug | F29: Indicator BC/FLA lever POS 55 Button FAS FLA - small | G29: 4 | M29: Rumänien /Asien/Tunesien | N29: EUR | O29: 19000 | P29: EUR | R29: 1 | S29: =O29*R29 -> 19000 | T29: =IF(C29="SBM", S29, 0) -> 19000 | W29: =$C29 -> SBM | X29: =IF(ISERROR(VLOOKUP(E29,(SBM_2),2,0)),VLOOKUP(E29,(SEKOF_2),2,0),VLOOKUP(E29,(SBM_2),2,0)) -> SBM
B30: 18 | C30: SBM | E30: Spritzgießwerkzeug | F30: Wiper EU with RW lever POS 10 cover sws with HW | G30: 4 | M30: Rumänien /Asien/Tunesien | N30: EUR | O30: 59000 | P30: EUR | R30: 1 | S30: =O30*R30 -> 59000 | T30: =IF(C30="SBM", S30, 0) -> 59000
B31: 19 | C31: SBM | E31: Spritzgießwerkzeug | F31: Wiper EU with RW lever POS 20 lever NOT printed | G31: 2 | M31: Rumänien /Asien/Tunesien | N31: EUR | O31: 61000 | P31: EUR | R31: 2 | S31: =O31*R31 -> 122000 | T31: =IF(C31="SBM", S31, 0) -> 122000
B32: 20 | C32: SBM | E32: Spritzgießwerkzeug | F32: Wiper EU with RW lever POS 30 holder with RW | G32: 4 | M32: Rumänien /Asien/Tunesien | N32: EUR | O32: 23500 | P32: EUR | R32: 1 | S32: =O32*R32 -> 23500 | T32: =IF(C32="SBM", S32, 0) -> 23500
B33: 21 | C33: SBM | E33: Spritzgießwerkzeug | F33: Wiper EU with RW lever POS 80 gear /wheel | G33: 4 | M33: Rumänien /Asien/Tunesien | N33: EUR | O33: 42600 | P33: EUR | R33: 1 | S33: =O33*R33 -> 42600 | T33: =IF(C33="SBM", S33, 0) -> 42600
B34: 22 | C34: SBM | E34: Spritzgießwerkzeug | F34: Wiper EU with RW lever POS 150 cap not printed | G34: 4 | M34: Rumänien /Asien/Tunesien | N34: EUR | O34: 19000 | P34: EUR | R34: 1 | S34: =O34*R34 -> 19000 | T34: =IF(C34="SBM", S34, 0) -> 19000
B35: 23 | C35: SBM | E35: Spritzgießwerkzeug | F35: Wiper Lever POS 10 cover wo RW | G35: 4 | M35: Rumänien /Asien/Tunesien | N35: EUR | O35: 61500 | P35: EUR | R35: 1 | S35: =O35*R35 -> 61500 | T35: =IF(C35="SBM", S35, 0) -> 61500
B36: 24 | C36: SBM | E36: Spritzgießwerkzeug | F36: Wiper Lever POS 20 lever not printed wo Rw | G36: 2 | M36: Rumänien /Asien/Tunesien | N36: EUR | O36: 61000 | P36: EUR | R36: 2 | S36: =O36*R36 -> 122000 | T36: =IF(C36="SBM", S36, 0) -> 122000
B37: 25 | C37: SBM | E37: Spritzgießwerkzeug | F37: Wiper Lever POS 30 holder (carry over) | G37: 4 | M37: Rumänien /Asien/Tunesien | N37: EUR | O37: 24000 | P37: EUR | R37: 1 | S37: =O37*R37 -> 24000 | T37: =IF(C37="SBM", S37, 0) -> 24000
B38: 26 | C38: SBM | E38: Spritzgießwerkzeug | F38: Wiper Lever POS 20 lightguide | G38: 8 | N38: EUR | O38: 12900 | P38: EUR | R38: 1 | S38: =O38*R38 -> 12900 | T38: =IF(C38="SBM", S38, 0) -> 12900
B39: 27 | C39: SBM | E39: Spritzgießwerkzeug | F39: Wiper EU with RW lever POS 160 switching parts | G39: 4 | N39: EUR | O39: 28800 | P39: EUR | R39: 1 | S39: =O39*R39 -> 28800 | T39: =IF(C39="SBM", S39, 0) -> 28800
B40: 28 | C40: SBM | E40: Spritzgießwerkzeug | F40: Indicator BC/FLA lever POS 50 Switching part | G40: 8 | M40: Deutschland /Tschechien | N40: EUR | O40: 23300 | P40: EUR | R40: 1 | S40: =O40*R40 -> 23300 | T40: =IF(C40="SBM", S40, 0) -> 23300
B41: 29 | C41: SBM | E41: Spritzgießwerkzeug | F41: basic switch POS 20 Cam | G41: 8 | M41: Deutschland /Tschechien | N41: EUR | O41: 27800 | P41: EUR | R41: 1 | S41: =O41*R41 -> 27800 | T41: =IF(C41="SBM", S41, 0) -> 27800
...

Sheet Rohstoffrisiken
C1: 8 | D1: 5 | E1: 22 | G1: 7.5 | H1: 7.5 | I1: 7.5 | J1: 7.5 | L1: 7.5 | M1: 15 | N1: 5 | O1: 12.5 | P1: 5 | Q1: 7.5 | R1: 7.5 | S1: 12.5 | T1: 12.5 | U1: 10
B2: BMW Group | G2: QUOTATION ANALYSIS FORM | P2: Hilfe und Dokumentation | T2: b2b.bmw.com
B3: VERTRAULICH | G3: 5. Rohstoffrisiken | P3: (siehe Nutzerleitfaden QAF Version 8.3)
B4: =Zusammenfassung!B4 -> QAF Version 8.3.02.02 © BMW AG
B5: Bearbeiter: | D5: =Zusammenfassung!$C5 -> Valeo | G5: Anbieter/Lieferant: | J5: =Zusammenfassung!$I5 -> Valeo | O5: Teilebenennung: | R5: =Zusammenfassung!$M5 -> SZL
B6: E-Mail: | D6: =HYPERLINK(CONCATENATE("mailto:",Zusammenfassung!C6),Zusammenfassung!C6) -> ulrich.wiedl@valeo.com | G6: BMW Lieferanten-Nr.: | J6: =Zusammenfassung!$I6 -> 16129510 | O6: Änderungsindex (AI): | R6: =Zusammenfassung!$M6 -> 0
B7: Telefon: | D7: =Zusammenfassung!$C7 -> 07142 916 2143 | G7: BMW Projekt: | J7: =Zusammenfassung!$I7 -> 35up | O7: Anfragenummer / Version: | R7: =Zusammenfassung!$M7 -> Zum Angebot vom 11.05.2016
B8: Angebotsdatum: | D8: =Zusammenfassung!$C8 -> 42513 | G8: BMW Sachnummer: | J8: =Zusammenfassung!$I8 -> 0 | O8: Variante: | R8: =Zusammenfassung!$M8 -> SZL 4-Band mit AIC mit FLA mit Heckwischen
B10: Rohstoffdetaillierung: Befüllung nach Vorgabe BMW Einkauf lt. Anfrageunterlagen | H10: Durchschnittszeitraum: | L10: Von: | N10: Bis:
B11: Positionsnummer | C11: Rohstoffbezeichnung | D11: Bezugsgewicht [kg] | E11: Rohstoffschlüssel | F11: Rohstoffnotierung R0 [AW/kg] | G11: Rohstoff-Zuschlag [AW] RoZ0 | H11: Abwicklungsmodell (siehe Anfrageunterlagen) | I11: Indexbezeichnung (siehe Anfrageunterlagen) | J11: Indexnotierung RoI0 [AW/kg] im Durchschnittzeitraum | K11: BMW Beteiligungsquote BQ [in%] (siehe Anfrageunterlagen) | L11: Schwellwert SW [in%] (siehe Anfrageunterlagen) | M11: Hinweismeldung, bei Detaillierungsbedarf gegenüber dem Material-Blatt | S11: Bemerkung
C13: Summe von Bezugsgewicht [kg]
C14: Rohstoffbezeichnung | D14: Ergebnis
B15: 1 | E15: =IF(OR(ISBLANK(C15),C15="(Leer)"), "", VLOOKUP(C15,(list_Rohstoffschlüssel),2,FALSE)) | G15: =D15*F15 -> 0 | M15: =IF(OR(ISBLANK(C15),C15="(Leer)"), "", VLOOKUP(C15,(list_Rohstoffschlüssel),3,FALSE))
B16: 2 | E16: =IF(OR(ISBLANK(C16),C16="(Leer)"), "", VLOOKUP(C16,(list_Rohstoffschlüssel),2,FALSE)) | G16: =D16*F16 -> 0 | M16: =IF(OR(ISBLANK(C16),C16="(Leer)"), "", VLOOKUP(C16,(list_Rohstoffschlüssel),3,FALSE))
B17: 3 | E17: =IF(OR(ISBLANK(C17),C17="(Leer)"), "", VLOOKUP(C17,(list_Rohstoffschlüssel),2,FALSE)) | G17: =D17*F17 -> 0 | M17: =IF(OR(ISBLANK(C17),C17="(Leer)"), "", VLOOKUP(C17,(list_Rohstoffschlüssel),3,FALSE))
B18: 4 | E18: =IF(OR(ISBLANK(C18),C18="(Leer)"), "", VLOOKUP(C18,(list_Rohstoffschlüssel),2,FALSE)) | G18: =D18*F18 -> 0 | M18: =IF(OR(ISBLANK(C18),C18="(Leer)"), "", VLOOKUP(C18,(list_Rohstoffschlüssel),3,FALSE))
B19: 5 | E19: =IF(OR(ISBLANK(C19),C19="(Leer)"), "", VLOOKUP(C19,(list_Rohstoffschlüssel),2,FALSE)) | G19: =D19*F19 -> 0 | M19: =IF(OR(ISBLANK(C19),C19="(Leer)"), "", VLOOKUP(C19,(list_Rohstoffschlüssel),3,FALSE))
B20: 6 | E20: =IF(OR(ISBLANK(C20),C20="(Leer)"), "", VLOOKUP(C20,(list_Rohstoffschlüssel),2,FALSE)) | G20: =D20*F20 -> 0 | M20: =IF(OR(ISBLANK(C20),C20="(Leer)"), "", VLOOKUP(C20,(list_Rohstoffschlüssel),3,FALSE))
B21: 7 | E21: =IF(OR(ISBLANK(C21),C21="(Leer)"), "", VLOOKUP(C21,(list_Rohstoffschlüssel),2,FALSE)) | M21: =IF(OR(ISBLANK(C21),C21="(Leer)"), "", VLOOKUP(C21,(list_Rohstoffschlüssel),3,FALSE))
B22: Zur Aktuallisierung der Pivot-Tabelle bitte im Bereich der Tabelle die rechte Maus-Taste drücken --> "Aktualisieren!"
B24: Ergänzungsumfänge die sich aus der Hinweismeldung ergeben.
B25: 1 | E25: =IF(ISBLANK(C25), "", VLOOKUP(C25,(list_Rohstoffschlüssel),2,FALSE)) | G25: =D25*F25 -> 0 | M25: =IF(OR(ISBLANK(C25),C25="(Leer)"), "", VLOOKUP(C25,(list_Rohstoffschlüssel),3,FALSE))
B26: 2 | E26: =IF(ISBLANK(C26), "", VLOOKUP(C26,(list_Rohstoffschlüssel),2,FALSE)) | G26: =D26*F26 -> 0 | M26: =IF(OR(ISBLANK(C26),C26="(Leer)"), "", VLOOKUP(C26,(list_Rohstoffschlüssel),3,FALSE))
B27: 3 | E27: =IF(ISBLANK(C27), "", VLOOKUP(C27,(list_Rohstoffschlüssel),2,FALSE)) | G27: =D27*F27 -> 0 | M27: =IF(OR(ISBLANK(C27),C27="(Leer)"), "", VLOOKUP(C27,(list_Rohstoffschlüssel),3,FALSE))
B28: 4 | E28: =IF(ISBLANK(C28), "", VLOOKUP(C28,(list_Rohstoffschlüssel),2,FALSE)) | G28: =D28*F28 -> 0 | M28: =IF(OR(ISBLANK(C28),C28="(Leer)"), "", VLOOKUP(C28,(list_Rohstoffschlüssel),3,FALSE))
B29: 5 | E29: =IF(ISBLANK(C29), "", VLOOKUP(C29,(list_Rohstoffschlüssel),2,FALSE)) | G29: =D29*F29 -> 0 | M29: =IF(OR(ISBLANK(C29),C29="(Leer)"), "", VLOOKUP(C29,(list_Rohstoffschlüssel),3,FALSE))
B30: 6 | E30: =IF(ISBLANK(C30), "", VLOOKUP(C30,(list_Rohstoffschlüssel),2,FALSE)) | G30: =D30*F30 -> 0 | M30: =IF(OR(ISBLANK(C30),C30="(Leer)"), "", VLOOKUP(C30,(list_Rohstoffschlüssel),3,FALSE))
B31: 7 | E31: =IF(ISBLANK(C31), "", VLOOKUP(C31,(list_Rohstoffschlüssel),2,FALSE)) | G31: =D31*F31 -> 0 | M31: =IF(OR(ISBLANK(C31),C31="(Leer)"), "", VLOOKUP(C31,(list_Rohstoffschlüssel),3,FALSE))
B34: Zusätzliche Zeile: Leerzeile kopieren und vor letzter Zeile einfügen

Sheet Prämissenblatt
B2: BMW Group | F2: QUOTATION ANALYSIS FORM
B3: ENTWURF - VERTRAULICH | F3: Prämissenblatt
B4: QAF Version 8 © BMW AG | O4: 41925 | S4: 41925
B6: Liste der Rohstoffschlüssel | E6: Liste der zulässigen Angebotswährungen | H6: Liste der zulässigen Beschaffungswährungen | K6: Länderliste | L6: ISO-Ländercode | M6: Iso-Währungs-code | O6: Werkzeugliste SBM bzw. Folgewerkzeuge | Q6: Werkzeugarten- nummer | S6: Werkzeugliste SEKOF | T6: Verrechnungsform | U6: Werkzeugarten- nummer | W6: Einheitenliste Material | Y6: Liste Ja / Nein | AA6: Werkzeug- verrechnungsform | AC6: Einheitenliste Fläche | AE6: Änderungshistorie | AH6: Werkzeuginstandhaltung
B8: AL01 | C8: ALUMINIUM | E8: EUR | F8: Euro | H8: EUR | I8: Euro | K8: Ägypten | L8: EG | M8: EGP | O8: Beschneide -/ Lochwerkzeug | P8: SBM | S8: Aufspannvorrichtung BAZ | T8: SEKOF | W8: Stück (Kaufteil) | Y8: ja | AA8: SBM | AC8: qm | AE8: 40765 | AF8: Berücksichtigung Rohstoffschlüssel | AH8: allgemein
B9: AL02 | C9: ALUMINIUM SCHROTT | E9: USD | F9: US-Dollar | H9: USD | I9: US-Dollar | K9: Albanien | L9: AL | M9: ALL | O9: Biegewerkzeug(z.B.Rohrbiegen) | P9: SBM | S9: Beflockungsaufnahme | T9: SEKOF | W9: Stück (Rohstoff-Risiko) | Y9: nein | AA9: SEKOF | AC9: sq.ft | AE9: 40765 | AF9: Aktualisierung Formel Preisgleitklausel
B10: AL03 | C10: ALUMINIUM SCHROTT 2 | E10: GBP | F10: Britisches Pfund | H10: GBP | I10: Britisches Pfund | K10: Argentinien | L10: AR | M10: ARS | O10: Blaswerkzeug | P10: SBM | S10: Brechschablone | T10: SEKOF | W10: kg | AA10: Folgewerkzeug | AC10: sq.yd | AE10: 40765 | AF10: Berücksichtigung WZ_IH_Kosten
B11: AL04 | C11: REINALUMINIUMPRAEMIE (ECDP/ECDU) | E11: CNY | F11: Chinesischer Renminbi | H11: CNY | I11: Chinesischer Renminbi | K11: Australien | L11: AU | M11: AUD | O11: Direktes / Indirektes Warmumformwerkzeug | P11: SBM | S11: Diadekor/ Diakopie | T11: SEKOF | W11: g | AA11: Werkzeuginstandhaltung | AE11: 40765 | AF11: "Unnötige Formel" Deckblatt entfernt
B12: KU01 | C12: Kunststoff-ABS, | E12: ARS | F12: Argentinische Peso | H12: ALL | I12: Albanischer Lek | K12: Bangladesch | L12: BD | M12: BDT | O12: Druckgusswerkzeug | P12: SBM | S12: Druckaufnahme (Tampondruck) / Klischees | T12: SEKOF | W12: m³ | AE12: 40766 | AF12: zulässige Beschaffungswährungen aktualisiert
B13: KU02 | C13: Kunststoff-ABS-PC, | E13: AUD | F13: Australische Dollar | H13: AED | I13: VAE Dirham | K13: Belgien | L13: BE | M13: EUR | O13: Elastomerpresswerkzeug | P13: SBM | S13: Filmauftragvorrichtung | T13: SEKOF | W13: m² | AE13: 40766 | AF13: WZ_IH_Kosten aus Fertigungskosten entfernt
B14: KU03 | C14: Kunststoff-PVC, | E14: BGN | F14: Lew | H14: ARS | I14: Argentinische Peso | K14: Bosnien und Herzegowina | L14: BA | M14: BAM | O14: Extrudierwerkzeug | P14: SBM | S14: Galvanikgestelle | T14: SEKOF | W14: m | AE14: 40766 | AF14: Aktualisierung Plausibilitätsprüfung SEKOF/SBM
B15: KU04 | C15: KUNSTSTOFF-PA, | E15: BRL | F15: Brasilianische Real | H15: AUD | I15: Australische Dollar | K15: Brasilien | L15: BR | M15: BRL | O15: Feinguss | P15: SBM | S15: Glaspressform (Pressbiegeform) | T15: SEKOF | W15: mm | AE15: 40780 | AF15: Plausibilitätsprüfung WZ-IH Kosten aktualisiert
B16: KU05 | C16: Kunststoff-POM, | E16: CAD | F16: Canadische Dollar | H16: BAM | I16: Bosnische Mark | K16: Bulgarien | L16: BG | M16: BGN | O16: Feinschneidwerkzeug | P16: SBM | S16: In-Circuit-Tester-Adapter (LP) inkl. Software, Funktionsprüfadapter, Endprüfadapter(ZB) | T16: SEKOF | W16: l | AE16: 40780 | AF16: bedingte Formatierung WZ-IH aktualisiert
B17: KU06 | C17: KUNSTSTOFF-PP-TVXX, | E17: CHF | F17: Schweizer Franken | H17: BDT | I17: Bangladeschischer Taka | K17: China | L17: CN | M17: CNY | O17: Folgeverbundwerkzeug | P17: SBM | S17: Kaschier- / Umbugwerkzeugwerkzeug für Sondermaschine | T17: SEKOF | W17: Prämie (kg) | AE17: 40995 | AF17: Überarbeitung SBM und SEKOF-Tabellen + Wertebereich
B18: KU07 | C18: KUNSTSTOFF-PP, - | E18: CZK | F18: Tschechische Krone | H18: BGN | I18: bulgarischer Lew | K18: Dänemark | L18: DK | M18: DKK | O18: Galvanowerkzeug | P18: SBM | S18: Klebeaufnahme | T18: SEKOF | W18: lb | AE18: 41039 | AF18: SBM Liste in beiden Prämissenblätter gleichgestellt.
B19: KU08 | C19: Kunststoff-PP-GFxx, | E19: DKK | F19: Dänische Krone | H19: BRL | I19: Brasilianische Real | K19: Deutschland | L19: DE | M19: EUR | O19: Gesamtschnitt-/ Verbund Werkzeug | P19: SBM | S19: Lackiergestelle/-aufnahmen | T19: SEKOF | W19: oz | AE19: 41039 | AF19: Löschhinweis in Blatt "SBM Inventarisierung"
B20: KU09 | C20: Kunststoff-PE, | E20: EGP | F20: Ägyptische Pfund | H20: BYR | I20: Weißrussischer Rubel | K20: Dubai | L20: AE | M20: UAE | O20: Hinterschäumwerkzeuge / -form | P20: SBM | S20: Lötrahmen | T20: SEKOF | W20: yd | AE20: 41039 | AF20: Schriftart auf BMW Group light umgestellt.
B21: KU10 | C21: Kunststoff-Polyol, | E21: HKD | F21: Hongkong Dollar | H21: CAD | I21: Canadische Dollar | K21: Estland | L21: EE | M21: EUR | O21: IHU-Werkzeug | P21: SBM | S21: Maskieren | T21: SEKOF | W21: ft | AE21: 41039 | AF21: Feld Änderungsindex auf "Text formatiert"
B22: KU11 | C22: KUNSTSTOFF-MDI, | E22: HUF | F22: Forint | H22: CHF | I22: Schweizer Franken | K22: Finnland | L22: FI | M22: EUR | O22: Kaltpressen (Massivumformen) | P22: SBM | S22: Mechanisierungszubehör (Greifer,Feeder,Entbutzen) | T22: SEKOF | W22: in | AE22: 41039 | AF22: Spalte "E" in SBM Inventarisierung mit Zeilenumbruch formatiert
B23: KU12 | C23: Kunststoff-EPDM, | E23: IDR | F23: Rupiah | H23: CZK | I23: Tschechische Krone | K23: Frankreich | L23: FR | M23: EUR | O23: Kaschier-Umbugwerkzeug für Standard M. | P23: SBM | S23: Messaufnahme/-Vorrichtungen spezifisch | T23: SEKOF | W23: sq.yd | AE23: 41043 | AF23: Verknüpfung SNR mit Zusammenfassungsblatt
... B26: KU15 | C26: SYNTHESEKAUTSCHUK | E26: KRW | F26: Won | H26: HKD | I26: Hongkong Dollar | K26: Hongkong | L26: HK | M26: HKD | O26: Konfektionswerkzeug | P26: SBM | S26: Poliervorrichtung | T26: SEKOF | W26: cu.yd | AE26: 41072 | AF26: Ländercodes für Dänemark, Finnland und Schweden auf dreistellig umgestellt
B27: KU99 | C27: Kunststoff-Allgemein | E27: MXN | F27: Mexikanische Peso | H27: HRK | I27: Kroatische Kuna | K27: Indien | L27: IN | M27: INR | O27: Messerschnitt (nicht Metall) | P27: SBM | S27: Prüfaufnahme/-Vorrichtungen spezifisch | T27: SEKOF | W27: cu.ft. | AF27: Verknüpfung für Auswahl "Argentinien" --> Orte richtig gestellt
B28: SO01 | C28: KUPFER, | E28: MYR | F28: Ringgit | H28: HUF | I28: Ungarische Forint | K28: Indonesien | L28: ID | M28: IDR | O28: Nachformwerkzeug | P28: SBM | S28: Rollensatz | T28: SEKOF | W28: cu.in | AF28: Land "Oman" und "Hongkong" hinzugefügt (inkl. Regionen)
B29: SO02 | C29: BLEI, | E29: NOK | F29: Norwegische Krone | H29: IDR | I29: Indonesische Rupiah | K29: Iran | L29: IR | M29: IRR | O29: Nasspressen (CFK) | P29: SBM | S29: Schneidaufnahme allgemein | T29: SEKOF | AE29: 41096 | AF29: email-Adresse als Hyperlink anzeigen: =HYPERLINK(VERKETTEN("mailto:";C6);C6)
B30: SO03 | C30: Nickel, | E30: PHP | F30: Philippinische Peso | H30: ILS | I30: Israelische Schekel | K30: Irland | L30: IE | M30: EUR | O30: Platinenschnitt | P30: SBM | S30: Schweißaufnahme/-gestelle | T30: SEKOF | AF30: Kommentarfelder von Hr. Eibl löschen
B31: SO04 | C31: Magnesium, | E31: PLN | F31: Złoty | H31: INR | I31: Indische Rupie | K31: Island | L31: IS | M31: ISK | O31: Preformwerkzeug | P31: SBM | S31: Schweißwerkzeug für Sondermaschine | T31: SEKOF | AF31: Format Anfragenummer/Version = Text
